BEGIN:VCALENDAR
VERSION:2.0
PRODID:-//CiviCRM//NONSGML CiviEvent iCal//EN
X-WR-TIMEZONE:Europe/Berlin
METHOD:PUBLISH
BEGIN:VTIMEZONE
TZID:Europe/Berlin
BEGIN:DAYLIGHT
TZOFFSETFROM:+0200
TZOFFSETTO:+0200
TZNAME:CEST
DTSTART:20260509T090000
END:DAYLIGHT
END:VTIMEZONE
BEGIN:VEVENT
UID:CiviCRM_EventID_50_272bf4a3c7b0f1d75234995e63935283@www.agn-tuebingen.de
SUMMARY:Erste Hilfe für Medizinstudierende
X-ALT-DESC;FMTTYPE=text/html:<!DOCTYPE HTML PUBLIC
  "-//W3C//DTD HTML 3.2//EN"><html><body><p>Für <st
 rong>Studierende im 1. - 3. vorklinischen Semester
 </strong> bieten wir auch dieses Semester wieder e
 inen erweiterten Erste Hilfe - Kurs an. Im Gegensa
 tz zu Kursen bei den Hilfsorganisationen ist er au
 f euch als Medizinstudierende zugeschnitten.</p>\n
  \n <p>Hierbei werden theoretische und praktische 
 Kenntnisse vermittelt.</p>\n \n <p>Der Kurs findet
  an einem Freitag Nachmittag und am Wochenende gan
 ztags statt und kostet <strong>20 Euro Aufwandsent
 schädigung</strong>. Damit finanzieren wir die Ver
 brauchsmaterialien und organisieren für euch am Sa
 mstag ein Mittagessen sowie an beiden Tagen Snacks
 \, Obst und Getränke (Kaffee\, Tee\, etc.).</p></b
 ody></html>
DESCRIPTION:Für Studierende im 1. - 3. vorklinischen Semester 
 bieten wir auch dieses Semester wieder einen erwei
 terten Erste Hilfe - Kurs an. Im Gegensatz zu Kurs
 en bei den Hilfsorganisationen ist er auf euch als
  Medizinstudierende zugeschnitten.\n \n \n \n Hier
 bei werden theoretische und praktische Kenntnisse 
 vermittelt.\n \n \n \n Der Kurs findet an einem Fr
 eitag Nachmittag und am Wochenende ganztags statt 
 und kostet 20 Euro Aufwandsentschädigung. Damit fi
 nanzieren wir die Verbrauchsmaterialien und organi
 sieren für euch am Samstag ein Mittagessen sowie a
 n beiden Tagen Snacks\, Obst und Getränke (Kaffee\
 , Tee\, etc.).\n \n 
CATEGORIES:Erste Hilfe-Kurs
CALSCALE:GREGORIAN
DTSTAMP;TZID=Europe/Berlin:20260509T090000
DTSTART;TZID=Europe/Berlin:20260509T090000
DTEND;TZID=Europe/Berlin:20260510T130000
LOCATION:Elfriede-Aulhorn-Straße 10\n Doclab/TIME\n 72076 T
 übingen\n Germany\n 
URL:https://www.agn-tuebingen.de/civicrm/event/info?reset=1&id=50
END:VEVENT
END:VCALENDAR
